BEGIN:VCALENDAR
VERSION:2.0
PRODID:-//Tukios.com/
BEGIN:VEVENT
UID:725d017b-b850-4dfc-89db-0966bab56abb@www.bangsfuneralhome.com
DTSTAMP:20260423T213450Z
DTSTART:20260429T140000Z
DTEND:20260429T150000Z
SUMMARY:Mass
DESCRIPTION:
URL:https://www.bangsfuneralhome.com/obituaries/francesco-frank-ferrara
LOCATION: 113 North Geneva Street  Ithaca NY 14850
GEO:42.4401716;-76.5003122
END:VEVENT
END:VCALENDAR